BEGIN:VCALENDAR
VERSION:2.0
PRODID:-//Rondebosch Rowing - ECPv6.14.2//NONSGML v1.0//EN
CALSCALE:GREGORIAN
METHOD:PUBLISH
X-WR-CALNAME:Rondebosch Rowing
X-ORIGINAL-URL:https://rbhs.rhi-staging.co.za
X-WR-CALDESC:Events for Rondebosch Rowing
REFRESH-INTERVAL;VALUE=DURATION:PT1H
X-Robots-Tag:noindex
X-PUBLISHED-TTL:PT1H
BEGIN:VTIMEZONE
TZID:Africa/Johannesburg
BEGIN:STANDARD
TZOFFSETFROM:+0200
TZOFFSETTO:+0200
TZNAME:SAST
DTSTART:20250101T000000
END:STANDARD
END:VTIMEZONE
BEGIN:VEVENT
DTSTART;VALUE=DATE:20250201
DTEND;VALUE=DATE:20250202
DTSTAMP:20260422T205148
CREATED:20250128T092249Z
LAST-MODIFIED:20250128T092806Z
UID:10003722-1738368000-1738454399@rbhs.rhi-staging.co.za
SUMMARY:Time trials\, Open day and boat packing
DESCRIPTION:
URL:https://rbhs.rhi-staging.co.za/event/time-trials-open-day-and-boat-packing/
LOCATION:Rondebosch Rowing Zeekoe Vlei\, Zeekoe Vlei\, Cape Town\, 7941\, South Africa
GEO:-34.0730012;18.5175214
X-APPLE-STRUCTURED-LOCATION;VALUE=URI;X-ADDRESS=Rondebosch Rowing Zeekoe Vlei Zeekoe Vlei Cape Town 7941 South Africa;X-APPLE-RADIUS=500;X-TITLE=Zeekoe Vlei:geo:18.5175214,-34.0730012
END:VEVENT
BEGIN:VEVENT
DTSTART;VALUE=DATE:20250206
DTEND;VALUE=DATE:20250209
DTSTAMP:20260422T205148
CREATED:20250128T092106Z
LAST-MODIFIED:20250128T092121Z
UID:10003721-1738800000-1739059199@rbhs.rhi-staging.co.za
SUMMARY:Buffalo Regatta - East London
DESCRIPTION:Held from the 6-8 March 2025
URL:https://rbhs.rhi-staging.co.za/event/buffalo-regatta-east-london/
LOCATION:Buffalo River  East London\, East London\, Eastern Cape\, South Africa
END:VEVENT
BEGIN:VEVENT
DTSTART;VALUE=DATE:20250228
DTEND;VALUE=DATE:20250303
DTSTAMP:20260422T205148
CREATED:20250128T092608Z
LAST-MODIFIED:20250128T092608Z
UID:10003723-1740700800-1740959999@rbhs.rhi-staging.co.za
SUMMARY:SA CHAMPS - ROODEPLAAT
DESCRIPTION:
URL:https://rbhs.rhi-staging.co.za/event/sa-champs-roodeplaat/
LOCATION:Roodeplaat Dam\, Roodeplaat\, Pretoria\, Gauteng\, 6670
GEO:-25.6259314;28.3478378
X-APPLE-STRUCTURED-LOCATION;VALUE=URI;X-ADDRESS=Roodeplaat Dam Roodeplaat Pretoria Gauteng 6670;X-APPLE-RADIUS=500;X-TITLE=Roodeplaat:geo:28.3478378,-25.6259314
END:VEVENT
END:VCALENDAR