BEGIN:VCALENDAR
VERSION:2.0
PRODID:-//Rondebosch Rowing - ECPv6.14.2//NONSGML v1.0//EN
CALSCALE:GREGORIAN
METHOD:PUBLISH
X-ORIGINAL-URL:https://rbhs.rhi-staging.co.za
X-WR-CALDESC:Events for Rondebosch Rowing
REFRESH-INTERVAL;VALUE=DURATION:PT1H
X-Robots-Tag:noindex
X-PUBLISHED-TTL:PT1H
BEGIN:VTIMEZONE
TZID:Africa/Johannesburg
BEGIN:STANDARD
TZOFFSETFROM:+0200
TZOFFSETTO:+0200
TZNAME:SAST
DTSTART:20240101T000000
END:STANDARD
END:VTIMEZONE
BEGIN:VEVENT
DTSTART;TZID=Africa/Johannesburg:20241101T073000
DTEND;TZID=Africa/Johannesburg:20241103T140000
DTSTAMP:20260424T142445
CREATED:20241023T180931Z
LAST-MODIFIED:20241023T180931Z
UID:10003718-1730446200-1730642400@rbhs.rhi-staging.co.za
SUMMARY:Gauteng Rowing Championships
DESCRIPTION:This year RBHS will send the senior and U16 teams to the Gauteng Rowing Championships to gain valuable experience against the best schools in Gauteng
URL:https://rbhs.rhi-staging.co.za/event/gauteng-rowing-championships/
LOCATION:Roodeplaat Dam\, Roodeplaat\, Pretoria\, Gauteng\, 6670
ATTACH;FMTTYPE=image/jpeg:https://rbhs.rhi-staging.co.za/wp-content/uploads/2024/10/gauteng-schools-rowing-champs.jpeg
GEO:-25.6259314;28.3478378
X-APPLE-STRUCTURED-LOCATION;VALUE=URI;X-ADDRESS=Roodeplaat Dam Roodeplaat Pretoria Gauteng 6670;X-APPLE-RADIUS=500;X-TITLE=Roodeplaat:geo:28.3478378,-25.6259314
END:VEVENT
BEGIN:VEVENT
DTSTART;TZID=Africa/Johannesburg:20241102T070000
DTEND;TZID=Africa/Johannesburg:20241103T140000
DTSTAMP:20260424T142445
CREATED:20241023T175845Z
LAST-MODIFIED:20241023T175845Z
UID:10003717-1730530800-1730642400@rbhs.rhi-staging.co.za
SUMMARY:Misverstand Regatta
DESCRIPTION:The Misverstand Regatta is an annual event covering distances from 1km\, 4km and 5km
URL:https://rbhs.rhi-staging.co.za/event/misverstand-regatta/
LOCATION:Misverstand\, Off N7\, Mooreesburg\, Mooreesburg\, Western Cape\, South Africa
CATEGORIES:Regatta
ATTACH;FMTTYPE=image/png:https://rbhs.rhi-staging.co.za/wp-content/uploads/2024/10/Screenshot-2024-10-23-at-19.54.44.png
GEO:-33.0302467;18.7886524
X-APPLE-STRUCTURED-LOCATION;VALUE=URI;X-ADDRESS=Misverstand Off N7 Mooreesburg Mooreesburg Western Cape South Africa;X-APPLE-RADIUS=500;X-TITLE=Off N7\, Mooreesburg:geo:18.7886524,-33.0302467
END:VEVENT
END:VCALENDAR